BEGIN:VCALENDAR
VERSION:2.0
PRODID:-//Clyde River PEI - ECPv6.15.20//NONSGML v1.0//EN
CALSCALE:GREGORIAN
METHOD:PUBLISH
X-WR-CALNAME:Clyde River PEI
X-ORIGINAL-URL:https://clyderiverpei.com
X-WR-CALDESC:Events for Clyde River PEI
REFRESH-INTERVAL;VALUE=DURATION:PT1H
X-Robots-Tag:noindex
X-PUBLISHED-TTL:PT1H
BEGIN:VTIMEZONE
TZID:America/Halifax
BEGIN:DAYLIGHT
TZOFFSETFROM:-0400
TZOFFSETTO:-0300
TZNAME:ADT
DTSTART:20250309T060000
END:DAYLIGHT
BEGIN:STANDARD
TZOFFSETFROM:-0300
TZOFFSETTO:-0400
TZNAME:AST
DTSTART:20251102T050000
END:STANDARD
BEGIN:DAYLIGHT
TZOFFSETFROM:-0400
TZOFFSETTO:-0300
TZNAME:ADT
DTSTART:20260308T060000
END:DAYLIGHT
BEGIN:STANDARD
TZOFFSETFROM:-0300
TZOFFSETTO:-0400
TZNAME:AST
DTSTART:20261101T050000
END:STANDARD
BEGIN:DAYLIGHT
TZOFFSETFROM:-0400
TZOFFSETTO:-0300
TZNAME:ADT
DTSTART:20270314T060000
END:DAYLIGHT
BEGIN:STANDARD
TZOFFSETFROM:-0300
TZOFFSETTO:-0400
TZNAME:AST
DTSTART:20271107T050000
END:STANDARD
END:VTIMEZONE
BEGIN:VEVENT
DTSTART;TZID=America/Halifax:20260424T103000
DTEND;TZID=America/Halifax:20260424T130000
DTSTAMP:20260424T220834
CREATED:20260220T153222Z
LAST-MODIFIED:20260408T125324Z
UID:23943-1777026600-1777035600@clyderiverpei.com
SUMMARY:Seniors Lunch & Learn Series - Home Care
DESCRIPTION:With assistance from the P.E.I. Seniors Secretariat\, the Rural Municipality of Clyde River is once again hosting a series of Seniors Lunch & Learn  events at the Riverview Community Center\, 718 Clyde River Road\, in Clyde River. \nOur next presentation will be held on: \nFriday\, April 24\, at 10:30 am – Trevor – ” Home Care “ \nAs our seating capacity is limited\, please register by Wednesday\, April 22\, \nat 902-675-2959 or administrator@clyderiverpei.com \nA lovely lunch will be served after the presentation. \nSee you there!
URL:https://clyderiverpei.com/event/seniors-lunch-learn-series-7/
CATEGORIES:Community Updates,Events
END:VEVENT
END:VCALENDAR