BEGIN:VCALENDAR
VERSION:2.0
PRODID:-//Clyde River PEI - ECPv6.15.20//NONSGML v1.0//EN
CALSCALE:GREGORIAN
METHOD:PUBLISH
X-ORIGINAL-URL:https://clyderiverpei.com
X-WR-CALDESC:Events for Clyde River PEI
REFRESH-INTERVAL;VALUE=DURATION:PT1H
X-Robots-Tag:noindex
X-PUBLISHED-TTL:PT1H
BEGIN:VTIMEZONE
TZID:America/Halifax
BEGIN:DAYLIGHT
TZOFFSETFROM:-0400
TZOFFSETTO:-0300
TZNAME:ADT
DTSTART:20210314T060000
END:DAYLIGHT
BEGIN:STANDARD
TZOFFSETFROM:-0300
TZOFFSETTO:-0400
TZNAME:AST
DTSTART:20211107T050000
END:STANDARD
BEGIN:DAYLIGHT
TZOFFSETFROM:-0400
TZOFFSETTO:-0300
TZNAME:ADT
DTSTART:20220313T060000
END:DAYLIGHT
BEGIN:STANDARD
TZOFFSETFROM:-0300
TZOFFSETTO:-0400
TZNAME:AST
DTSTART:20221106T050000
END:STANDARD
BEGIN:DAYLIGHT
TZOFFSETFROM:-0400
TZOFFSETTO:-0300
TZNAME:ADT
DTSTART:20230312T060000
END:DAYLIGHT
BEGIN:STANDARD
TZOFFSETFROM:-0300
TZOFFSETTO:-0400
TZNAME:AST
DTSTART:20231105T050000
END:STANDARD
END:VTIMEZONE
BEGIN:VEVENT
DTSTART;TZID=America/Halifax:20220914T190000
DTEND;TZID=America/Halifax:20220914T190000
DTSTAMP:20260424T204619
CREATED:20220829T160543Z
LAST-MODIFIED:20220831T002634Z
UID:22437-1663182000-1663182000@clyderiverpei.com
SUMMARY:Land Use Plan and By Law Public Meeting
DESCRIPTION:Land Use Plan and By Law Development Public Meeting Wednesday Sept 14th 7 to 9 pm
URL:https://clyderiverpei.com/event/22437/
LOCATION:Riverview Community Center\, 718 Clyde River Rd.\, Clyde River\, Prince Edward Island\, C0A 1H0\, Canada
ORGANIZER;CN="Clyde River Council":MAILTO:administrator@clyderiverpei.com
END:VEVENT
END:VCALENDAR